BEGIN:VCALENDAR
VERSION:2.0
PRODID:-//wp-events-plugin.com//7.2.3.1//EN
TZID:Europe/Zurich
X-WR-TIMEZONE:Europe/Zurich
BEGIN:VEVENT
UID:2-56@pastoralegiovanile.ch
DTSTART;TZID=Europe/Zurich:20260306T170000
DTEND;TZID=Europe/Zurich:20260308T150000
DTSTAMP:20260201T233728Z
URL:https://pastoralegiovanile.ch/eventi/3-giorni-ragazzi-6-8-marzo/
SUMMARY:3 Giorni Ragazzi - 6-8 marzo
DESCRIPTION:Per ragazze e ragazzi in età di scuola media\, in particolare 
 cresimandi. Un’esperienza bella di amicizia e fraternità.\n\nIscrizioni
  su pg.segresta.ch\n\n\n\n\n\n&nbsp\;
ATTACH;FMTTYPE=image/jpeg:https://pastoralegiovanile.ch/wp-content/uploads
 /sites/2/2026/02/quicksquarenew_20261270261590.jpg
LOCATION:Casa La Montanina (Camperio)\, Zona Camperio 3\, Blenio\, 6718\, T
 icino\, Svizzera
X-APPLE-STRUCTURED-LOCATION;VALUE=URI;X-ADDRESS=Zona Camperio 3\, Blenio\, 
 6718\, Ticino\, Svizzera;X-APPLE-RADIUS=100;X-TITLE=Casa La Montanina (Cam
 perio):geo:0,0
END:VEVENT
BEGIN:VTIMEZONE
TZID:Europe/Zurich
X-LIC-LOCATION:Europe/Zurich
BEGIN:STANDARD
DTSTART:20251026T020000
TZOFFSETFROM:+0200
TZOFFSETTO:+0100
TZNAME:CET
END:STANDARD
END:VTIMEZONE
END:VCALENDAR