BEGIN:VCALENDAR
VERSION:2.0
PRODID:-//wp-events-plugin.com//7.2.3.1//EN
TZID:Europe/Zurich
X-WR-TIMEZONE:Europe/Zurich
BEGIN:VEVENT
UID:2-52@pastoralegiovanile.ch
DTSTART;TZID=Europe/Zurich:20260326T203000
DTEND;TZID=Europe/Zurich:20260326T213000
DTSTAMP:20260318T182935Z
URL:https://pastoralegiovanile.ch/eventi/adorazione-eucaristica-mendrisiot
 to-3/
SUMMARY:Adorazione Eucaristica (Mendrisiotto)
DESCRIPTION:Il Gruppo Giovani dell'Oratorio di Balerna vi invita alla pregh
 iera.\n\n
ATTACH;FMTTYPE=image/jpeg:https://pastoralegiovanile.ch/wp-content/uploads
 /sites/2/2026/02/adorazione-mendrisiotto.jpeg
LOCATION:https://maps.app.goo.gl/9fPaCgKaDJcLuFGG7
END:VEVENT
BEGIN:VTIMEZONE
TZID:Europe/Zurich
X-LIC-LOCATION:Europe/Zurich
BEGIN:STANDARD
DTSTART:20251026T020000
TZOFFSETFROM:+0200
TZOFFSETTO:+0100
TZNAME:CET
END:STANDARD
END:VTIMEZONE
END:VCALENDAR