BEGIN:VCALENDAR
VERSION:2.0
PRODID:-//wp-events-plugin.com//7.2.3.1//EN
TZID:Europe/Zurich
X-WR-TIMEZONE:Europe/Zurich
BEGIN:VEVENT
UID:2-33@pastoralegiovanile.ch
DTSTART;TZID=Europe/Zurich:20260421T200000
DTEND;TZID=Europe/Zurich:20260421T210000
DTSTAMP:20260318T183012Z
URL:https://pastoralegiovanile.ch/eventi/adorazione-giovani-19/
SUMMARY:Adorazione Giovani
DESCRIPTION:Adorazione Giovani\n\nPer chi? Per i giovani\, eventualmente an
 che per adolescenti (14-17 anni).\n\n&nbsp\;
ATTACH;FMTTYPE=image/jpeg:https://pastoralegiovanile.ch/wp-content/uploads
 /sites/2/2025/10/volantino-adorazione-giovani-25-scaled.jpg
LOCATION:Chiesa di San Rocco\, Piazza Indipendenza\, Bellinzona\, 6500\, Sv
 izzera
X-APPLE-STRUCTURED-LOCATION;VALUE=URI;X-ADDRESS=Piazza Indipendenza\, Belli
 nzona\, 6500\, Svizzera;X-APPLE-RADIUS=100;X-TITLE=Chiesa di San Rocco:geo
 :0,0
END:VEVENT
BEGIN:VTIMEZONE
TZID:Europe/Zurich
X-LIC-LOCATION:Europe/Zurich
BEGIN:DAYLIGHT
DTSTART:20260329T030000
TZOFFSETFROM:+0100
TZOFFSETTO:+0200
TZNAME:CEST
END:DAYLIGHT
END:VTIMEZONE
END:VCALENDAR