BEGIN:VCALENDAR
VERSION:2.0
PRODID:-//wp-events-plugin.com//7.2.3.1//EN
TZID:Europe/Zurich
X-WR-TIMEZONE:Europe/Zurich
BEGIN:VEVENT
UID:2-42@pastoralegiovanile.ch
DTSTART;TZID=Europe/Zurich:20260328T200000
DTEND;TZID=Europe/Zurich:20260328T220000
DTSTAMP:20260318T210147Z
URL:https://pastoralegiovanile.ch/eventi/cammino-della-speranza-gmg-dioces
 ana/
SUMMARY:Cammino della Speranza / GMG diocesana
DESCRIPTION:Raccontando di Chiara.\n\nGiovani che attraverso il teatro\, la
  testimonianza e l'incontro\, ci presentano la figura di Santa Chiara e di
  San Francesco.\n\n
ATTACH;FMTTYPE=image/jpeg:https://pastoralegiovanile.ch/wp-content/uploads
 /sites/2/2026/01/20260125-GMG-diocesana-2026-scaled-e1773344320706.jpg
END:VEVENT
BEGIN:VTIMEZONE
TZID:Europe/Zurich
X-LIC-LOCATION:Europe/Zurich
BEGIN:STANDARD
DTSTART:20251026T020000
TZOFFSETFROM:+0200
TZOFFSETTO:+0100
TZNAME:CET
END:STANDARD
END:VTIMEZONE
END:VCALENDAR