BEGIN:VCALENDAR
VERSION:2.0
PRODID:-//wp-events-plugin.com//7.2.3.1//EN
TZID:Europe/Zurich
X-WR-TIMEZONE:Europe/Zurich
BEGIN:VEVENT
UID:2-55@pastoralegiovanile.ch
DTSTART;TZID=Europe/Zurich:20260606T140000
DTEND;TZID=Europe/Zurich:20260606T220000
DTSTAMP:20260318T183040Z
URL:https://pastoralegiovanile.ch/eventi/formazione-per-aiuto-animatori-an
 imatori-jr-e-animatori/
SUMMARY:Formazione per Aiuto-Animatori\, Animatori Jr. e Animatori
DESCRIPTION:Per tutti gli aiuto-animatori (3a media)\, animatori Jr. (14-17
  anni) e animatori/responsabili (18+) delle colonie residenziali\, diurne 
 e GREST.\n\n\n\n&nbsp\;\n\nPresto i dettagli.
END:VEVENT
BEGIN:VTIMEZONE
TZID:Europe/Zurich
X-LIC-LOCATION:Europe/Zurich
BEGIN:DAYLIGHT
DTSTART:20260329T030000
TZOFFSETFROM:+0100
TZOFFSETTO:+0200
TZNAME:CEST
END:DAYLIGHT
END:VTIMEZONE
END:VCALENDAR