BEGIN:VCALENDAR
VERSION:2.0
PRODID:-//wp-events-plugin.com//7.2.3.1//EN
TZID:Europe/Zurich
X-WR-TIMEZONE:Europe/Zurich
BEGIN:VEVENT
UID:2-63@pastoralegiovanile.ch
DTSTART;TZID=Europe/Zurich:20260418T140000
DTEND;TZID=Europe/Zurich:20260418T173000
DTSTAMP:20260318T183005Z
URL:https://pastoralegiovanile.ch/eventi/giornata-cresimandi-e-cresimati-2
 026/
SUMMARY:Giornata Cresimandi e Cresimati 2026
DESCRIPTION:Un’escape room nel cuore di Lugano per cresimandi e cresimati
 \nUn pomeriggio di avventura\, mistero e lavoro di squadra nel centro di L
 ugano. Sabato 18 aprile 2026 la Pastorale Giovanile della Diocesi di Lugan
 o invita i ragazzi e le ragazze delle scuole medie\, cresimandi e cresimat
 i\, a partecipare a un evento speciale dal titolo “La sfida di Lorenzo
 ”.\nContinua sull'articolo di PG
ATTACH;FMTTYPE=image/jpeg:https://pastoralegiovanile.ch/wp-content/uploads
 /sites/2/2026/03/manifesto_cresimandi_cresimati_26-scaled.jpg
END:VEVENT
BEGIN:VTIMEZONE
TZID:Europe/Zurich
X-LIC-LOCATION:Europe/Zurich
BEGIN:DAYLIGHT
DTSTART:20260329T030000
TZOFFSETFROM:+0100
TZOFFSETTO:+0200
TZNAME:CEST
END:DAYLIGHT
END:VTIMEZONE
END:VCALENDAR