BEGIN:VCALENDAR
VERSION:2.0
PRODID:-//wp-events-plugin.com//7.2.3.1//EN
TZID:Europe/Zurich
X-WR-TIMEZONE:Europe/Zurich
BEGIN:VEVENT
UID:2-69@pastoralegiovanile.ch
DTSTART;TZID=Europe/Zurich:20260501T100000
DTEND;TZID=Europe/Zurich:20260501T160000
DTSTAMP:20260401T213155Z
URL:https://pastoralegiovanile.ch/eventi/giornata-diocesana-dei-bambini-20
 26-con-lac/
SUMMARY:Giornata diocesana dei bambini 2026 (con l'AC)
DESCRIPTION:Vi aspettiamo al 1° maggio per vivere insieme questo evento tr
 adizionale della nostra diocesi.\n\n
ATTACH;FMTTYPE=image/jpeg:https://pastoralegiovanile.ch/wp-content/uploads
 /sites/2/2026/04/logo-giornata-diocesana-bambini-Copia.jpg
LOCATION:https://maps.app.goo.gl/Re42ZvWCUV43DBfy6
END:VEVENT
BEGIN:VTIMEZONE
TZID:Europe/Zurich
X-LIC-LOCATION:Europe/Zurich
BEGIN:DAYLIGHT
DTSTART:20260329T030000
TZOFFSETFROM:+0100
TZOFFSETTO:+0200
TZNAME:CEST
END:DAYLIGHT
END:VTIMEZONE
END:VCALENDAR