BEGIN:VCALENDAR
VERSION:2.0
PRODID:-//wp-events-plugin.com//7.2.3.1//EN
TZID:Europe/Zurich
X-WR-TIMEZONE:Europe/Zurich
BEGIN:VEVENT
UID:2-46@pastoralegiovanile.ch
DTSTART;TZID=Europe/Zurich:20251230T080000
DTEND;TZID=Europe/Zurich:20260105T190000
DTSTAMP:20251031T085452Z
URL:https://pastoralegiovanile.ch/eventi/grinv-oratorio-lugano-amici-del-g
 rest/
SUMMARY:GRINV (Oratorio Lugano / Amici del Grest)
DESCRIPTION:Sei giorni di attività sportive e di divertimento sulla neve\,
  con serate speciali\, tempo per fare i compiti e studiare… tutto nella 
 fantastica cornice della Leventina!\n\n&nbsp\;\n\n 	Promotore\nOratorio di
  Lugano / Amici del Grest\n 	Partecipanti\nRagazzi 11-16 anni (anni 2015-2
 009)\n 	Quando e dove\nda martedì 30 dicembre 2025 a lunedì 5 gennaio 20
 26. Casa don Willy (Catto-Leventina)\n 	Iscrizioni e info\nbanca dati ba
 ncagiovani.ch\nRoberto Ghiazza +41 76 520 79 34\n 	Animatori (18+)\nIscriv
 ersi sulla banca dati: i responsabili vi contatteranno.\n\n&nbsp\;\n\n&nbs
 p\;\n\n
ATTACH;FMTTYPE=image/jpeg:https://pastoralegiovanile.ch/wp-content/uploads
 /sites/2/2025/10/Grinv-2026-images-0-scaled.jpg
LOCATION:Casa "don Willy" - Catto\, Catto\, Quinto\, 6777\, Ticino\, Svizze
 ra
X-APPLE-STRUCTURED-LOCATION;VALUE=URI;X-ADDRESS=Catto\, Quinto\, 6777\, Tic
 ino\, Svizzera;X-APPLE-RADIUS=100;X-TITLE=Casa \"don Willy\" - Catto:geo:0
 ,0
END:VEVENT
BEGIN:VTIMEZONE
TZID:Europe/Zurich
X-LIC-LOCATION:Europe/Zurich
BEGIN:STANDARD
DTSTART:20251026T020000
TZOFFSETFROM:+0200
TZOFFSETTO:+0100
TZNAME:CET
END:STANDARD
END:VTIMEZONE
END:VCALENDAR