BEGIN:VCALENDAR
VERSION:2.0
PRODID:-//wp-events-plugin.com//7.2.3.1//EN
TZID:Europe/Zurich
X-WR-TIMEZONE:Europe/Zurich
BEGIN:VEVENT
UID:2-41@pastoralegiovanile.ch
DTSTART;TZID=Europe/Zurich:20260227T190000
DTEND;TZID=Europe/Zurich:20260301T140000
DTSTAMP:20260201T233806Z
URL:https://pastoralegiovanile.ch/eventi/ritiro-di-quaresima/
SUMMARY:Ritiro di Quaresima
DESCRIPTION:Iscriviti su pg.segresta.ch\n\n
ATTACH;FMTTYPE=image/jpeg:https://pastoralegiovanile.ch/wp-content/uploads
 /sites/2/2026/01/san-Francesco2.jpg
LOCATION:Casa La Montanina (Camperio)\, Zona Camperio 3\, Blenio\, 6718\, T
 icino\, Svizzera
X-APPLE-STRUCTURED-LOCATION;VALUE=URI;X-ADDRESS=Zona Camperio 3\, Blenio\, 
 6718\, Ticino\, Svizzera;X-APPLE-RADIUS=100;X-TITLE=Casa La Montanina (Cam
 perio):geo:0,0
END:VEVENT
BEGIN:VTIMEZONE
TZID:Europe/Zurich
X-LIC-LOCATION:Europe/Zurich
BEGIN:STANDARD
DTSTART:20251026T020000
TZOFFSETFROM:+0200
TZOFFSETTO:+0100
TZNAME:CET
END:STANDARD
END:VTIMEZONE
END:VCALENDAR